BEGIN:VCALENDAR
VERSION:2.0
PRODID:-//Lynx Korfbal - ECPv6.15.20//NONSGML v1.0//EN
CALSCALE:GREGORIAN
METHOD:PUBLISH
X-ORIGINAL-URL:https://lynx-korfbal.nl
X-WR-CALDESC:Evenementen voor Lynx Korfbal
REFRESH-INTERVAL;VALUE=DURATION:PT1H
X-Robots-Tag:noindex
X-PUBLISHED-TTL:PT1H
BEGIN:VTIMEZONE
TZID:UTC
BEGIN:STANDARD
TZOFFSETFROM:+0000
TZOFFSETTO:+0000
TZNAME:UTC
DTSTART:20230101T000000
END:STANDARD
END:VTIMEZONE
BEGIN:VEVENT
DTSTART;VALUE=DATE:20240907
DTEND;VALUE=DATE:20240908
DTSTAMP:20260419T152739
CREATED:20240906T200321Z
LAST-MODIFIED:20240906T200321Z
UID:3747-1725667200-1725753599@lynx-korfbal.nl
SUMMARY:Eerste competitiewedstrijden
DESCRIPTION:Op zaterdag 7 september is het zover\, de eerste competitiewedstrijden van het 2024 veldseizoen! \nLynx F1 speelt om 11:00 uur uit tegen Phoenix F2 \nLynx E1 speelt om 11:00 uur uit tegen VEO E3 \nLynx E2 speelt om 09:00 uur uit tegen Reeuwijk E2 \nLynx D1 speelt om 10:30 uur uit tegen Vriendenschaar (B) D1 \nLynx B1 speelt om 10:30 uur uit tegen Excelsior B4 \n 
URL:https://lynx-korfbal.nl/agenda/eerste-competitiewedstrijden/
CATEGORIES:Wedstrijden
END:VEVENT
END:VCALENDAR